BEGIN:VCALENDAR
VERSION:2.0
PRODID:-//Cry - ECPv4.6//NONSGML v1.0//EN
CALSCALE:GREGORIAN
METHOD:PUBLISH
X-WR-CALNAME:Cry
X-ORIGINAL-URL:https://cry.ie
X-WR-CALDESC:Events for Cry
BEGIN:VEVENT
DTSTART;VALUE=DATE:20201010
DTEND;VALUE=DATE:20201010
DTSTAMP:20260421T204300
CREATED:20200811T142224Z
LAST-MODIFIED:20200811T142224Z
UID:5298-1602288000-1602374399@cry.ie
SUMMARY:#QUESTKillarney20
DESCRIPTION:Conor is taking on the challenge of #QUESTKillarney20 happening on October 10th – it is a massive challenge that includes a Cycle\, Hike and Trail Run. \nWe’re very proud to have Conor on #teamCRY and a huge THANK YOU from us to everyone who has donated so generously to date.   Conor is fundraising through IDonate and we’ve a link to support Conor head here?\nhttps://www.idonate.ie/…/11389203_conor-noone-s-fundraising… \n#OurFantasticFamilies #FriendOfCRY #Fundraiser #Charity \n
URL:https://cry.ie/index.php/event/questkillarney20/
CATEGORIES:Upcoming Events
ATTACH;FMTTYPE=image/jpeg:https://cry.ie/qosf87M70eO9/wordpress/wp-content/uploads/2020/08/2-Conor-N.jpg
END:VEVENT
END:VCALENDAR