BEGIN:VCALENDAR
VERSION:2.0
PRODID:-//Cry - ECPv4.6//NONSGML v1.0//EN
CALSCALE:GREGORIAN
METHOD:PUBLISH
X-WR-CALNAME:Cry
X-ORIGINAL-URL:https://cry.ie
X-WR-CALDESC:Events for Cry
BEGIN:VEVENT
DTSTART;TZID=UTC+0:20190827T200000
DTEND;TZID=UTC+0:20190827T233000
DTSTAMP:20260423T095532
CREATED:20190819T110000Z
LAST-MODIFIED:20190819T110017Z
UID:4618-1566936000-1566948600@cry.ie
SUMMARY:Monkstown Tennis - Golden Oldies Night!
DESCRIPTION:
URL:https://cry.ie/index.php/event/monkstown-tennis-golden-oldies-night/
LOCATION:St John's Park\, Upper\, Monkstown\, Co. Dublin\, Dublin\, Ireland
CATEGORIES:Upcoming Events
ATTACH;FMTTYPE=image/jpeg:https://cry.ie/qosf87M70eO9/wordpress/wp-content/uploads/2019/08/Oldies-Night-poster-2019.jpg
END:VEVENT
END:VCALENDAR