BEGIN:VCALENDAR
VERSION:2.0
PRODID:-//Cry - ECPv4.6//NONSGML v1.0//EN
CALSCALE:GREGORIAN
METHOD:PUBLISH
X-WR-CALNAME:Cry
X-ORIGINAL-URL:https://cry.ie
X-WR-CALDESC:Events for Cry
BEGIN:VEVENT
DTSTART;VALUE=DATE:20190824
DTEND;VALUE=DATE:20190824
DTSTAMP:20260423T101012
CREATED:20190628T142754Z
LAST-MODIFIED:20190717T124437Z
UID:4503-1566604800-1566691199@cry.ie
SUMMARY:CP2CP Cycle 2019
DESCRIPTION:
URL:https://cry.ie/index.php/event/cp2cp-cycle-2019/
CATEGORIES:Upcoming Events
ATTACH;FMTTYPE=image/jpeg:https://cry.ie/qosf87M70eO9/wordpress/wp-content/uploads/2019/06/Croke-Park.jpg
END:VEVENT
END:VCALENDAR