BEGIN:VCALENDAR
VERSION:2.0
PRODID:-//Cry - ECPv4.6//NONSGML v1.0//EN
CALSCALE:GREGORIAN
METHOD:PUBLISH
X-WR-CALNAME:Cry
X-ORIGINAL-URL:https://cry.ie
X-WR-CALDESC:Events for Cry
BEGIN:VEVENT
DTSTART;TZID=UTC+0:20190626T190000
DTEND;TZID=UTC+0:20190626T203000
DTSTAMP:20260421T141144
CREATED:20190605T094134Z
LAST-MODIFIED:20190605T094134Z
UID:4480-1561575600-1561581000@cry.ie
SUMMARY:Healthy Heart Talk
DESCRIPTION: \n
URL:https://cry.ie/index.php/event/healthy-heart-talk/
LOCATION:Belgard Square North\, Cookstown\, Dublin 24\, D24 NR0A\, Ireland
CATEGORIES:Upcoming Events
ATTACH;FMTTYPE=image/jpeg:https://cry.ie/qosf87M70eO9/wordpress/wp-content/uploads/2019/06/CycleSuperStore-Poster.jpg
ORGANIZER;CN="Lucia%20Ebbs":MAILTO:info@cry.ie
END:VEVENT
END:VCALENDAR