BEGIN:VCALENDAR
VERSION:2.0
PRODID:-//Cry - ECPv4.6//NONSGML v1.0//EN
CALSCALE:GREGORIAN
METHOD:PUBLISH
X-WR-CALNAME:Cry
X-ORIGINAL-URL:https://cry.ie
X-WR-CALDESC:Events for Cry
BEGIN:VEVENT
DTSTART;VALUE=DATE:20190526
DTEND;VALUE=DATE:20190526
DTSTAMP:20260421T154636
CREATED:20190403T163003Z
LAST-MODIFIED:20190516T134134Z
UID:4159-1558828800-1558915199@cry.ie
SUMMARY:CANCELLED - CRY Great Heart Cycle 2019
DESCRIPTION: \nView in fullscreen \n
URL:https://cry.ie/index.php/event/cry-great-heart-cycle-2019/
LOCATION:Laragh House\, Ballard\, Glendalough\, Co. Wicklow\, Ireland
CATEGORIES:Upcoming Events
ATTACH;FMTTYPE=image/jpeg:https://cry.ie/qosf87M70eO9/wordpress/wp-content/uploads/2019/04/A4-Great-Heart-poster.jpg
ORGANIZER;CN="Cry%20Great%20Heart%20Cycle":MAILTO:crycycle@bearingpoint.com
END:VEVENT
END:VCALENDAR