BEGIN:VCALENDAR
VERSION:2.0
PRODID:-//Cry - ECPv4.6//NONSGML v1.0//EN
CALSCALE:GREGORIAN
METHOD:PUBLISH
X-WR-CALNAME:Cry
X-ORIGINAL-URL:https://cry.ie
X-WR-CALDESC:Events for Cry
BEGIN:VEVENT
DTSTART;VALUE=DATE:20190525
DTEND;VALUE=DATE:20190525
DTSTAMP:20260421T154636
CREATED:20190313T114442Z
LAST-MODIFIED:20190313T114442Z
UID:4114-1558742400-1558828799@cry.ie
SUMMARY:Croagh Patrick in Memory of Rory Dell
DESCRIPTION:
URL:https://cry.ie/index.php/event/croagh-patrick-in-memory-of-rory-dell-2/
LOCATION:Croagh Patrick\, Co. Mayo\, Ireland
CATEGORIES:Upcoming Events
ATTACH;FMTTYPE=image/jpeg:https://cry.ie/qosf87M70eO9/wordpress/wp-content/uploads/2019/03/Rory-Dell-poster-2019.jpg
ORGANIZER;CN="Lucia%20Ebbs":MAILTO:info@cry.ie
END:VEVENT
END:VCALENDAR