BEGIN:VCALENDAR
VERSION:2.0
PRODID:-//Cry - ECPv4.6//NONSGML v1.0//EN
CALSCALE:GREGORIAN
METHOD:PUBLISH
X-WR-CALNAME:Cry
X-ORIGINAL-URL:https://cry.ie
X-WR-CALDESC:Events for Cry
BEGIN:VEVENT
DTSTART;VALUE=DATE:20190524
DTEND;VALUE=DATE:20190524
DTSTAMP:20260421T154345
CREATED:20190416T101745Z
LAST-MODIFIED:20190416T125303Z
UID:4213-1558656000-1558742399@cry.ie
SUMMARY:Monagea 2019
DESCRIPTION:Diary Date:\n#Monagea19\nThe West Limerick Endurance 125\nwith 70km\, 110km or 125km cycle route options\nAND\n5km / 10Km Walk or Run\nSaturday 4th May (Bank Holiday Weekend) \n#RememberingNiamhAndDarra ❤\n#teamCRY\n#OurFantasticFamilies \nPlease like & share & spread the word! \n
URL:https://cry.ie/index.php/event/monagea-2019/
CATEGORIES:Upcoming Events
ATTACH;FMTTYPE=image/jpeg:https://cry.ie/qosf87M70eO9/wordpress/wp-content/uploads/2019/04/Monagea-2019-1.jpg
END:VEVENT
END:VCALENDAR