BEGIN:VCALENDAR
VERSION:2.0
PRODID:-//Cry - ECPv4.6//NONSGML v1.0//EN
CALSCALE:GREGORIAN
METHOD:PUBLISH
X-WR-CALNAME:Cry
X-ORIGINAL-URL:https://cry.ie
X-WR-CALDESC:Events for Cry
BEGIN:VEVENT
DTSTART;TZID=UTC+0:20190522T190000
DTEND;TZID=UTC+0:20190522T223000
DTSTAMP:20260421T154713
CREATED:20190502T161603Z
LAST-MODIFIED:20190502T162141Z
UID:4284-1558551600-1558564200@cry.ie
SUMMARY:Showcase 2019 in aid of CRY Ireland
DESCRIPTION:We’re back in the The Market Place Theatre & Arts Centre\, Armagh for the SRCmusicdept SHOWCASE on Wednesday 22nd May 2019 in aid of CRY Ireland. \nThe students of the Music Department\, Armagh\, are organising a Music Showcase which will feature a broad range of musical styles and genres from across their talented music department. \nBREAKING THE MIRROR – WORLD PREMIERE \nBreaking the Mirror is a stunning concept album & performance written\, recorded and performed by L3 Music students of Southern Regional College Armagh – it’s an exploration into the purpose of ones own self reflection. \nTickets £5\nStudent Tickets £1 (with valid ID)\nCDs £5 \n  \nDoors: 7:00pm \n#RememberingKevin\n#FriendsOfCry \n
URL:https://cry.ie/index.php/event/showcase-2019-in-aid-of-cry-ireland/
LOCATION:9 Market St\, Armagh\, BT61 7BW\, United Kingdom
CATEGORIES:Upcoming Events
ATTACH;FMTTYPE=image/jpeg:https://cry.ie/qosf87M70eO9/wordpress/wp-content/uploads/2019/05/Showcase-Poster-A4-2019-small.jpg
END:VEVENT
END:VCALENDAR