BEGIN:VCALENDAR
VERSION:2.0
PRODID:-//Cry - ECPv4.6//NONSGML v1.0//EN
CALSCALE:GREGORIAN
METHOD:PUBLISH
X-WR-CALNAME:Cry
X-ORIGINAL-URL:https://cry.ie
X-WR-CALDESC:Events for Cry
BEGIN:VEVENT
DTSTART;VALUE=DATE:20190426
DTEND;VALUE=DATE:20190426
DTSTAMP:20260421T172708
CREATED:20190410T104857Z
LAST-MODIFIED:20190410T105151Z
UID:4193-1556236800-1556323199@cry.ie
SUMMARY:Charity Day @ Leopardstown Golf Club
DESCRIPTION:With Breege Clancy and the Friday Falcons \n
URL:https://cry.ie/index.php/event/charity-day-leopardstown-golf-club/
CATEGORIES:Upcoming Events
ATTACH;FMTTYPE=image/png:https://cry.ie/qosf87M70eO9/wordpress/wp-content/uploads/2019/04/Leopardstown-Racecourse.png
END:VEVENT
END:VCALENDAR