BEGIN:VCALENDAR
VERSION:2.0
PRODID:-//Cry - ECPv4.6//NONSGML v1.0//EN
CALSCALE:GREGORIAN
METHOD:PUBLISH
X-WR-CALNAME:Cry
X-ORIGINAL-URL:https://cry.ie
X-WR-CALDESC:Events for Cry
BEGIN:VEVENT
DTSTART;TZID=UTC+0:20190310T140000
DTEND;TZID=UTC+0:20190310T170000
DTSTAMP:20260421T190110
CREATED:20190308T102850Z
LAST-MODIFIED:20190308T103419Z
UID:4091-1552226400-1552237200@cry.ie
SUMMARY:Colin Dunne Memorial 5km Race
DESCRIPTION: \n
URL:https://cry.ie/index.php/event/colin-dunne-memorial-5km-race/
LOCATION:Mucklagh\, Co. Offaly\, Ireland
CATEGORIES:Upcoming Events
ATTACH;FMTTYPE=image/png:https://cry.ie/qosf87M70eO9/wordpress/wp-content/uploads/2019/03/Colin-1.png
END:VEVENT
END:VCALENDAR