BEGIN:VCALENDAR
VERSION:2.0
PRODID:-//Cry - ECPv4.6//NONSGML v1.0//EN
CALSCALE:GREGORIAN
METHOD:PUBLISH
X-WR-CALNAME:Cry
X-ORIGINAL-URL:https://cry.ie
X-WR-CALDESC:Events for Cry
BEGIN:VEVENT
DTSTART;VALUE=DATE:20190301
DTEND;VALUE=DATE:20190301
DTSTAMP:20260421T190053
CREATED:20180903T090403Z
LAST-MODIFIED:20190201T135118Z
UID:3658-1551398400-1551484799@cry.ie
SUMMARY:Pure Style 2019
DESCRIPTION:We’re very proud to say we’re officially SOLD OUT for the 10th annual #PureStyle event! \n
URL:https://cry.ie/index.php/event/pure-style-2019/
LOCATION:4 Simmonscourt Rd\, Dublin\, D04 A9K8\, Ireland
CATEGORIES:Upcoming Events
ATTACH;FMTTYPE=image/jpeg:https://cry.ie/qosf87M70eO9/wordpress/wp-content/uploads/2018/09/purestylesoldout.jpg
ORGANIZER;CN="Lucia%20Ebbs":MAILTO:info@cry.ie
END:VEVENT
END:VCALENDAR