BEGIN:VCALENDAR
VERSION:2.0
PRODID:-//Cry - ECPv4.6//NONSGML v1.0//EN
CALSCALE:GREGORIAN
METHOD:PUBLISH
X-WR-CALNAME:Cry
X-ORIGINAL-URL:https://cry.ie
X-WR-CALDESC:Events for Cry
BEGIN:VEVENT
DTSTART;TZID=UTC+0:20190223T200000
DTEND;TZID=UTC+0:20190223T230000
DTSTAMP:20260421T202452
CREATED:20190102T170653Z
LAST-MODIFIED:20190102T171056Z
UID:3971-1550952000-1550962800@cry.ie
SUMMARY:A Night for Eddie
DESCRIPTION:
URL:https://cry.ie/index.php/event/a-night-for-eddie/
LOCATION:The Mall\, Waterford\, https://www.towerhotelwaterford.com\, X91 VXE0\, Ireland
CATEGORIES:Upcoming Events
ATTACH;FMTTYPE=image/jpeg:https://cry.ie/qosf87M70eO9/wordpress/wp-content/uploads/2019/01/ANightForEddie2019.jpg
ORGANIZER;CN="Lucia%20Ebbs":MAILTO:info@cry.ie
END:VEVENT
END:VCALENDAR