BEGIN:VCALENDAR
VERSION:2.0
PRODID:-//Cry - ECPv4.6//NONSGML v1.0//EN
CALSCALE:GREGORIAN
METHOD:PUBLISH
X-WR-CALNAME:Cry
X-ORIGINAL-URL:https://cry.ie
X-WR-CALDESC:Events for Cry
BEGIN:VEVENT
DTSTART;TZID=UTC+0:20181124T160000
DTEND;TZID=UTC+0:20181124T190000
DTSTAMP:20260422T003651
CREATED:20181114T122302Z
LAST-MODIFIED:20181114T122302Z
UID:3802-1543075200-1543086000@cry.ie
SUMMARY:Tony Noonan's Christmas Lights LAUNCH NIGHT
DESCRIPTION:  \nTony Noonan’s Christmas Lights LAUNCH NIGHT is on November 24th 2018 (4-pm-7pm) in Templeglantine\, Limerick – if you’re local – don’t miss this! \n  \nWe wish Tony the very best for the night – an evening of fun & special guests is promised and Tony won’t disappoint! \n  \nWe’ve been lucky enough to have received funds from this event and we wish the chosen charities for 2018 the very best. #Monagea18#RememberingNiamhAndDarra \n  \n  \nA little about Tony:\nTony Noonan has dedicated the past number of years collecting funds for local charities during the Christmas period with his Christmas light’s display.\nOur 2017 collection brought in €19\,626 for local charities that are deserving of the money. This has been donated to six wonderful and deserving charities – Brothers of Charity Newcastle West\, Adare Alzheimer’s Branch\, Milford Care Centre\, C.R.Y. Monegea\, Recovery Haven Tralee\, and Brothers of Charity Foynes.\n2016\, saw a collection of €26\,700\, all going to local charities. During this year\, he also won €4\,000 from Energia after being awarded Energia’s “Most Christmassy Home 2016”! All of which was given to the charity. \n  \n
URL:https://cry.ie/index.php/event/tony-noonans-christmas-lights-launch-night/
ATTACH;FMTTYPE=image/jpeg:https://cry.ie/qosf87M70eO9/wordpress/wp-content/uploads/2018/11/TonyNoonanLaunchNight2018.jpg
END:VEVENT
END:VCALENDAR