BEGIN:VCALENDAR
VERSION:2.0
PRODID:-//Cry - ECPv4.6//NONSGML v1.0//EN
CALSCALE:GREGORIAN
METHOD:PUBLISH
X-WR-CALNAME:Cry
X-ORIGINAL-URL:https://cry.ie
X-WR-CALDESC:Events for Cry
BEGIN:VEVENT
DTSTART;TZID=UTC+0:20181029T200000
DTEND;TZID=UTC+0:20181029T233000
DTSTAMP:20260422T003654
CREATED:20181022T111358Z
LAST-MODIFIED:20181114T123014Z
UID:3765-1540843200-1540855800@cry.ie
SUMMARY:Table Quiz - Sponsoring Caoimhe Greene
DESCRIPTION:Sponsoring Caoimhe Greene running the NYC marathon in aid of C.R.Y Ireland \n
URL:https://cry.ie/index.php/event/table-quiz-sponsoring-caoimhe-greene/
ATTACH;FMTTYPE=image/jpeg:https://cry.ie/qosf87M70eO9/wordpress/wp-content/uploads/2018/10/CaoimheGreeneTableQuiz-NEW.jpg
END:VEVENT
END:VCALENDAR