BEGIN:VCALENDAR
VERSION:2.0
PRODID:-//Cry - ECPv4.6//NONSGML v1.0//EN
CALSCALE:GREGORIAN
METHOD:PUBLISH
X-WR-CALNAME:Cry
X-ORIGINAL-URL:https://cry.ie
X-WR-CALDESC:Events for Cry
BEGIN:VEVENT
DTSTART;TZID=UTC+0:20181020T100000
DTEND;TZID=UTC+0:20181020T130000
DTSTAMP:20260422T020055
CREATED:20180910T161035Z
LAST-MODIFIED:20181009T111859Z
UID:3684-1540029600-1540040400@cry.ie
SUMMARY:Coffee Morning In Memory of Ruth Maguire 2018
DESCRIPTION:Liz Maguire is hosting her annual Coffee Morning in memory of her daughter Ruth in aid of Cry on Saturday 20th October from 10 – 1pm in Simonstown GFC\, Navan. \nFor more information please contact  087 252 7076. \n  \n
URL:https://cry.ie/index.php/event/coffee-morning-in-memory-of-ruth-maguire-2018/
LOCATION:Simonstown\, Navan\, Co. Meath\, C15 N61X\, Ireland
CATEGORIES:Upcoming Events
ATTACH;FMTTYPE=image/jpeg:https://cry.ie/qosf87M70eO9/wordpress/wp-content/uploads/2018/09/Coffee-Morning-2018-Liz-Maguire.jpg
END:VEVENT
END:VCALENDAR