BEGIN:VCALENDAR
VERSION:2.0
PRODID:-//Cry - ECPv4.6//NONSGML v1.0//EN
CALSCALE:GREGORIAN
METHOD:PUBLISH
X-WR-CALNAME:Cry
X-ORIGINAL-URL:https://cry.ie
X-WR-CALDESC:Events for Cry
BEGIN:VEVENT
DTSTART;VALUE=DATE:20181013
DTEND;VALUE=DATE:20181013
DTSTAMP:20260422T020056
CREATED:20180801T112645Z
LAST-MODIFIED:20180801T112645Z
UID:3585-1539388800-1539475199@cry.ie
SUMMARY:Charity Night in aid of Cry
DESCRIPTION:Charity Night in aid of Cry \nIn Lennons\, Durrow\, County Laois \n
URL:https://cry.ie/index.php/event/charity-night-in-aid-of-cry/
ATTACH;FMTTYPE=image/jpeg:https://cry.ie/qosf87M70eO9/wordpress/wp-content/uploads/2018/08/Fundraiser4Cry-2018.jpg
END:VEVENT
END:VCALENDAR