BEGIN:VCALENDAR
VERSION:2.0
PRODID:-//Cry - ECPv4.6//NONSGML v1.0//EN
CALSCALE:GREGORIAN
METHOD:PUBLISH
X-WR-CALNAME:Cry
X-ORIGINAL-URL:https://cry.ie
X-WR-CALDESC:Events for Cry
BEGIN:VEVENT
DTSTART;VALUE=DATE:20180922
DTEND;VALUE=DATE:20180922
DTSTAMP:20260422T033035
CREATED:20180711T122944Z
LAST-MODIFIED:20180711T123112Z
UID:3495-1537574400-1537660799@cry.ie
SUMMARY:#RememberingRuth
DESCRIPTION:Kirk Morrow (pictured) is taking on the challenge of the Dublin Half Marathon on September 22nd in aid of Cry while remembering Ruth Maguire who died suddenly aged 14 in November 2011. \nRuth’s mum Liz\, her dad Aidan and brother Luke along with the amazing local community are truly #FriendsOfCry. \nTo support Kirk head to :https://give.everydayhero.com/…/kirk-morrow-running-in-memo… \n#RememberingRuth \n
URL:https://cry.ie/index.php/event/rememberingruth/
ATTACH;FMTTYPE=image/jpeg:https://cry.ie/qosf87M70eO9/wordpress/wp-content/uploads/2018/07/Kirk.jpg
END:VEVENT
BEGIN:VEVENT
DTSTART;VALUE=DATE:20180922
DTEND;VALUE=DATE:20180922
DTSTAMP:20260422T033035
CREATED:20180802T124636Z
LAST-MODIFIED:20180803T092558Z
UID:3592-1537574400-1537660799@cry.ie
SUMMARY:Dr. Deirdre Ward runs the Dublin Half Marathon
DESCRIPTION:Saturday 22nd September 2018 sees Dr. Deirdre Ward\, Consultant Cardiologist at the CRYP Centre takes to the streets of Dublin for the challenge of the SSE Dublin Half Marathon.  So if you’re out there supporting watch out for Deirdre in her Cry Ireland top. \nTo sponsor Deirdre’s challenge head to :-  https://cry.ie/index.php/donate/ and select ‘Sponsor Dr Deirdre Ward for the SEE Half Marathon.’ from the dropdown. \n
URL:https://cry.ie/index.php/event/dr-deirdre-ward-runs-the-dublin-half-marathon/
CATEGORIES:Upcoming Events
ATTACH;FMTTYPE=image/jpeg:https://cry.ie/qosf87M70eO9/wordpress/wp-content/uploads/2018/08/DeirdreWard2.jpg
END:VEVENT
END:VCALENDAR