BEGIN:VCALENDAR
VERSION:2.0
PRODID:-//Cry - ECPv4.6//NONSGML v1.0//EN
CALSCALE:GREGORIAN
METHOD:PUBLISH
X-WR-CALNAME:Cry
X-ORIGINAL-URL:https://cry.ie
X-WR-CALDESC:Events for Cry
BEGIN:VEVENT
DTSTART;VALUE=DATE:20180801
DTEND;VALUE=DATE:20180801
DTSTAMP:20260422T045938
CREATED:20180801T112932Z
LAST-MODIFIED:20180801T112932Z
UID:3588-1533081600-1533167999@cry.ie
SUMMARY:“Helping from the Heart” with Allianz.
DESCRIPTION:  \nPictured is Nicola Finn “Helping from the Heart” with Allianz. \n  \nNicola is pictured on the 2018 Allianz Calendar – July – showing her support for Cry Ireland.   \nNicola is a long time supporter of Cry – remembering her husband Andrew Finn who died suddenly in April 2010. \n  \n  \n  \n#Allianz – supporting people and communities since 1890. \n  \n
URL:https://cry.ie/index.php/event/helping-from-the-heart-with-allianz/
ATTACH;FMTTYPE=image/jpeg:https://cry.ie/qosf87M70eO9/wordpress/wp-content/uploads/2018/08/Allianz-Broker-2018-July.jpg
END:VEVENT
END:VCALENDAR