BEGIN:VCALENDAR
VERSION:2.0
PRODID:-//Cry - ECPv4.6//NONSGML v1.0//EN
CALSCALE:GREGORIAN
METHOD:PUBLISH
X-WR-CALNAME:Cry
X-ORIGINAL-URL:https://cry.ie
X-WR-CALDESC:Events for Cry
BEGIN:VEVENT
DTSTART;VALUE=DATE:20180603
DTEND;VALUE=DATE:20180603
DTSTAMP:20260422T075525
CREATED:20180104T204500Z
LAST-MODIFIED:20180418T154714Z
UID:3113-1527984000-1528070399@cry.ie
SUMMARY:VHI Women's Mini Marathon 2018
DESCRIPTION:Please consider joining #teamCry and help us do more – walk/jog or run the Mini Marathon on Sunday 3rd June.  Call Lucia on 01 4525482 or email info@cry.ie for your Sponsorship Pack. \nIf you are interested in learning more about this event\, or taking part\, please contact us via this online form or mail us directly. \n  \n
URL:https://cry.ie/index.php/event/vhi-womens-mini-marathon-2018/
ATTACH;FMTTYPE=image/jpeg:https://cry.ie/qosf87M70eO9/wordpress/wp-content/uploads/2018/03/MM-A5-flier-2018.jpg
END:VEVENT
END:VCALENDAR