BEGIN:VCALENDAR
VERSION:2.0
PRODID:-//Cry - ECPv4.6//NONSGML v1.0//EN
CALSCALE:GREGORIAN
METHOD:PUBLISH
X-WR-CALNAME:Cry
X-ORIGINAL-URL:https://cry.ie
X-WR-CALDESC:Events for Cry
BEGIN:VEVENT
DTSTART;VALUE=DATE:20180526
DTEND;VALUE=DATE:20180526
DTSTAMP:20260422T090758
CREATED:20180418T161625Z
LAST-MODIFIED:20180418T161728Z
UID:3272-1527292800-1527379199@cry.ie
SUMMARY:Croagh Patrick in memory of Rory Dell
DESCRIPTION:Huge thanks to Mark Carrick and Paula Dell who have confirmed their annual climb is back again – this year on Saturday 26th May. Supported by family and friends they’ll climb Croagh Patrick in memory of Rory who died suddenly on 22nd November 2012.\nIt really is a tough challenge – a little about what they’re taking on in their #ChallengeForCry\nCroagh Patrick meaning “(Saint) Patrick’s Stack”)\, nicknamed the Reek\, is a 764 metres (2\,507 ft) mountain and an important site of pilgrimage in County Mayo in Ireland. It is 8 kilometres (5 mi) from Westport\, above the villages of Murrisk and Lecanvey and overlooks Clew Bay. It is the third highest mountain in County Mayo after Mweelrea and Nephin. Normally it takes about two hours for the average person to reach the summit and one and a half hours to descend. \n#RememberingRory\n#FantasticFamilies \n
URL:https://cry.ie/index.php/event/croagh-patrick-in-memory-of-rory-dell/
ATTACH;FMTTYPE=image/jpeg:https://cry.ie/qosf87M70eO9/wordpress/wp-content/uploads/2018/04/Rory-Dell-poster-2018.jpg
END:VEVENT
END:VCALENDAR