BEGIN:VCALENDAR
VERSION:2.0
PRODID:-//Cry - ECPv4.6//NONSGML v1.0//EN
CALSCALE:GREGORIAN
METHOD:PUBLISH
X-WR-CALNAME:Cry
X-ORIGINAL-URL:https://cry.ie
X-WR-CALDESC:Events for Cry
BEGIN:VEVENT
DTSTART;TZID=UTC+0:20180316T190000
DTEND;TZID=UTC+0:20180316T220000
DTSTAMP:20260422T115708
CREATED:20180212T203847Z
LAST-MODIFIED:20180308T112625Z
UID:3103-1521226800-1521237600@cry.ie
SUMMARY:Pub Quiz in Aid of Cry
DESCRIPTION: \nFollow this link to register your place! \n
URL:https://cry.ie/index.php/event/pub-quiz-in-aid-of-cry/
ATTACH;FMTTYPE=image/jpeg:https://cry.ie/qosf87M70eO9/wordpress/wp-content/uploads/2018/03/Pub-Quiz-March-2018web.jpg
END:VEVENT
END:VCALENDAR