BEGIN:VCALENDAR
VERSION:2.0
PRODID:-//Cry - ECPv4.6//NONSGML v1.0//EN
CALSCALE:GREGORIAN
METHOD:PUBLISH
X-WR-CALNAME:Cry
X-ORIGINAL-URL:https://cry.ie
X-WR-CALDESC:Events for Cry
BEGIN:VEVENT
DTSTART;TZID=UTC+0:20180128T150000
DTEND;TZID=UTC+0:20180128T183000
DTSTAMP:20260422T143009
CREATED:20180103T181456Z
LAST-MODIFIED:20180308T112005Z
UID:3063-1517151600-1517164200@cry.ie
SUMMARY:Build A Beetle
DESCRIPTION: \n
URL:https://cry.ie/index.php/event/build-a-beetle/
ATTACH;FMTTYPE=image/png:https://cry.ie/qosf87M70eO9/wordpress/wp-content/uploads/2018/03/Capture.png
END:VEVENT
END:VCALENDAR