BEGIN:VCALENDAR
VERSION:2.0
PRODID:-//Cry - ECPv4.6//NONSGML v1.0//EN
CALSCALE:GREGORIAN
METHOD:PUBLISH
X-WR-CALNAME:Cry
X-ORIGINAL-URL:https://cry.ie
X-WR-CALDESC:Events for Cry
BEGIN:VEVENT
DTSTART;VALUE=DATE:20171203
DTEND;VALUE=DATE:20171203
DTSTAMP:20260422T154540
CREATED:20171201T175748Z
LAST-MODIFIED:20180308T111559Z
UID:3041-1512259200-1512345599@cry.ie
SUMMARY:Tis the Season: Christmas carols on Grafton Street
DESCRIPTION:Sunday the 3rd December \nSt. Pius X Folk Group\, Templeogue will be singing on Grafton Street from 2pm in aid of Cry.\nIf you’re shopping in town on Sunday please support. \n
URL:https://cry.ie/index.php/event/tis-the-season-christmas-carols-on-grafton-street/
ATTACH;FMTTYPE=image/jpeg:https://cry.ie/qosf87M70eO9/wordpress/wp-content/uploads/2018/03/Collage.jpg
END:VEVENT
END:VCALENDAR