BEGIN:VCALENDAR
VERSION:2.0
PRODID:-//Cry - ECPv4.6//NONSGML v1.0//EN
CALSCALE:GREGORIAN
METHOD:PUBLISH
X-WR-CALNAME:Cry
X-ORIGINAL-URL:https://cry.ie
X-WR-CALDESC:Events for Cry
BEGIN:VEVENT
DTSTART;VALUE=DATE:20171105
DTEND;VALUE=DATE:20171105
DTSTAMP:20260422T165715
CREATED:20171024T110411Z
LAST-MODIFIED:20171024T161414Z
UID:2639-1509840000-1509926399@cry.ie
SUMMARY:Carrick on Suir Winter Rally Sprint
DESCRIPTION:Carrick-On-Suir Motor Club WINTER RALLY SPRINT\nSunday November 5th at Waterford Airport Business Park \n
URL:https://cry.ie/index.php/event/carrick-on-suir-winter-rally-sprint/
ATTACH;FMTTYPE=image/jpeg:https://cry.ie/qosf87M70eO9/wordpress/wp-content/uploads/2017/10/Flyer-003.jpg
END:VEVENT
END:VCALENDAR