BEGIN:VCALENDAR
VERSION:2.0
PRODID:-//Cry - ECPv4.6//NONSGML v1.0//EN
CALSCALE:GREGORIAN
METHOD:PUBLISH
X-WR-CALNAME:Cry
X-ORIGINAL-URL:https://cry.ie
X-WR-CALDESC:Events for Cry
BEGIN:VEVENT
DTSTART;TZID=UTC+0:20171021T100000
DTEND;TZID=UTC+0:20171021T130000
DTSTAMP:20260422T181254
CREATED:20171011T113806Z
LAST-MODIFIED:20171024T161450Z
UID:2242-1508580000-1508590800@cry.ie
SUMMARY:Ruth Maguire Coffee Morning
DESCRIPTION:Coffee Morning in memory of Ruth Maguire\nSaturday 21st October\nSimonstown GFC\, Navan \n
URL:https://cry.ie/index.php/event/ruth-maguire-coffee-morning/
CATEGORIES:Upcoming Events
ATTACH;FMTTYPE=image/jpeg:https://cry.ie/qosf87M70eO9/wordpress/wp-content/uploads/2017/10/Coffee-Morning-A4-2017.jpg
END:VEVENT
END:VCALENDAR