BEGIN:VCALENDAR
VERSION:2.0
PRODID:-//Cry - ECPv4.6//NONSGML v1.0//EN
CALSCALE:GREGORIAN
METHOD:PUBLISH
X-WR-CALNAME:Cry
X-ORIGINAL-URL:https://cry.ie
X-WR-CALDESC:Events for Cry
BEGIN:VEVENT
DTSTART;TZID=UTC+0:20170909T200000
DTEND;TZID=UTC+0:20170909T200000
DTSTAMP:20260422T192352
CREATED:20170927T161139Z
LAST-MODIFIED:20171011T114050Z
UID:1175-1504987200-1504987200@cry.ie
SUMMARY:Charity Fundraiser in aid of CRY
DESCRIPTION:Charity Fundraiser Event in aid of CRY\nSaturday 9th September\nTory Top Bar\, Ballyphehane\, Cork \n
URL:https://cry.ie/index.php/event/charity-fundraiser-event-in-aid-of-cry/
ATTACH;FMTTYPE=image/jpeg:https://cry.ie/qosf87M70eO9/wordpress/wp-content/uploads/2017/09/ToryTop9Sept.jpg
END:VEVENT
END:VCALENDAR