BEGIN:VCALENDAR
VERSION:2.0
PRODID:-//Cry - ECPv4.6//NONSGML v1.0//EN
CALSCALE:GREGORIAN
METHOD:PUBLISH
X-WR-CALNAME:Cry
X-ORIGINAL-URL:https://cry.ie
X-WR-CALDESC:Events for Cry
BEGIN:VEVENT
DTSTART;TZID=UTC+0:20170822T193000
DTEND;TZID=UTC+0:20170822T213000
DTSTAMP:20260422T203842
CREATED:20170927T161009Z
LAST-MODIFIED:20170927T161009Z
UID:1172-1503430200-1503437400@cry.ie
SUMMARY:Golden Oldies Night in aid of Cry
DESCRIPTION:Monkstown Tennis Club host\nTuesday 22nd August\nGenerously sponsored by Mick and Breege Clancy \n
URL:https://cry.ie/index.php/event/golden-oldies-night-in-aid-of-cry/
ATTACH;FMTTYPE=image/jpeg:https://cry.ie/qosf87M70eO9/wordpress/wp-content/uploads/2017/09/Oldies-Night-Breege-Clancy-2017.jpg
END:VEVENT
END:VCALENDAR