BEGIN:VCALENDAR
VERSION:2.0
PRODID:-//Cry - ECPv4.6//NONSGML v1.0//EN
CALSCALE:GREGORIAN
METHOD:PUBLISH
X-WR-CALNAME:Cry
X-ORIGINAL-URL:https://cry.ie
X-WR-CALDESC:Events for Cry
BEGIN:VEVENT
DTSTART;VALUE=DATE:20170728
DTEND;VALUE=DATE:20170728
DTSTAMP:20260422T220644
CREATED:20170927T160523Z
LAST-MODIFIED:20170927T160523Z
UID:1164-1501200000-1501286399@cry.ie
SUMMARY:UCD MBA Golf Society Annual Charity Event @ The K Club
DESCRIPTION:UCD MBA Golf Society Annual Charity Event @ The K Club\nIn aid of Cry and the UCD Ad Astra Academy\nSaturday 11th July \n
URL:https://cry.ie/index.php/event/ucd-mba-golf-society-annual-charity-event-the-k-club/
ATTACH;FMTTYPE=image/jpeg:https://cry.ie/qosf87M70eO9/wordpress/wp-content/uploads/2017/09/Capture2-2.jpg
END:VEVENT
END:VCALENDAR