BEGIN:VCALENDAR
VERSION:2.0
PRODID:-//Cry - ECPv4.6//NONSGML v1.0//EN
CALSCALE:GREGORIAN
METHOD:PUBLISH
X-WR-CALNAME:Cry
X-ORIGINAL-URL:https://cry.ie
X-WR-CALDESC:Events for Cry
BEGIN:VEVENT
DTSTART;VALUE=DATE:20170527
DTEND;VALUE=DATE:20170527
DTSTAMP:20260423T010131
CREATED:20161107T093614Z
LAST-MODIFIED:20170927T155928Z
UID:1059-1495843200-1495929599@cry.ie
SUMMARY:Croagh Patrick In Memory of Rory Dell
DESCRIPTION:Mark & Paula Dell climb Croagh Patrick in memory of Rory Dell\nSaturday 27th May \n
URL:https://cry.ie/index.php/event/charity-for-education-6/
CATEGORIES:Upcoming Events
ATTACH;FMTTYPE=image/jpeg:https://cry.ie/qosf87M70eO9/wordpress/wp-content/uploads/2016/11/Rory-Dell-poster-2017-A4.jpg
END:VEVENT
END:VCALENDAR