BEGIN:VCALENDAR
VERSION:2.0
PRODID:-//Cry - ECPv4.6//NONSGML v1.0//EN
CALSCALE:GREGORIAN
METHOD:PUBLISH
X-WR-CALNAME:Cry
X-ORIGINAL-URL:https://cry.ie
X-WR-CALDESC:Events for Cry
BEGIN:VEVENT
DTSTART;TZID=UTC+0:20170512T193000
DTEND;TZID=UTC+0:20170512T220000
DTSTAMP:20260423T010129
CREATED:20161107T093223Z
LAST-MODIFIED:20170927T155058Z
UID:1062-1494617400-1494626400@cry.ie
SUMMARY:The Annual Eoin Fennessy Memorial Cup
DESCRIPTION:The Annual Eoin Fennessy Memorial Cup\nSuttonians RFC\, Sutton\, Dublin\nFriday May 12th. \n
URL:https://cry.ie/index.php/event/charity-for-education-2/
CATEGORIES:Upcoming Events
ATTACH;FMTTYPE=image/jpeg:https://cry.ie/qosf87M70eO9/wordpress/wp-content/uploads/2016/11/Eoin-Fennessy-poster-A4.jpg
END:VEVENT
END:VCALENDAR