BEGIN:VCALENDAR
VERSION:2.0
PRODID:-//Cry - ECPv4.6//NONSGML v1.0//EN
CALSCALE:GREGORIAN
METHOD:PUBLISH
X-WR-CALNAME:Cry
X-ORIGINAL-URL:https://cry.ie
X-WR-CALDESC:Events for Cry
BEGIN:VEVENT
DTSTART;TZID=UTC+0:20170429T080000
DTEND;TZID=UTC+0:20170429T170000
DTSTAMP:20260423T024047
CREATED:20170429T090009Z
LAST-MODIFIED:20171003T102957Z
UID:1061-1493452800-1493485200@cry.ie
SUMMARY:Monagea 2017
DESCRIPTION:Monagea 2017 \nRemembering Niamh and Darra\nSaturday April 29th \n
URL:https://cry.ie/index.php/event/charity-for-education-8/
CATEGORIES:Upcoming Events
ATTACH;FMTTYPE=image/jpeg:https://cry.ie/qosf87M70eO9/wordpress/wp-content/uploads/2017/04/Niamh-and-Darra-poster.jpg
END:VEVENT
END:VCALENDAR